BEGIN:VCALENDAR
VERSION:2.0
PRODID:-//Regional One Health - ECPv6.15.20//NONSGML v1.0//EN
CALSCALE:GREGORIAN
METHOD:PUBLISH
X-WR-CALNAME:Regional One Health
X-ORIGINAL-URL:https://www.regionalonehealth.org
X-WR-CALDESC:Events for Regional One Health
REFRESH-INTERVAL;VALUE=DURATION:PT1H
X-Robots-Tag:noindex
X-PUBLISHED-TTL:PT1H
BEGIN:VTIMEZONE
TZID:America/Chicago
BEGIN:DAYLIGHT
TZOFFSETFROM:-0600
TZOFFSETTO:-0500
TZNAME:CDT
DTSTART:20230312T080000
END:DAYLIGHT
BEGIN:STANDARD
TZOFFSETFROM:-0500
TZOFFSETTO:-0600
TZNAME:CST
DTSTART:20231105T070000
END:STANDARD
BEGIN:DAYLIGHT
TZOFFSETFROM:-0600
TZOFFSETTO:-0500
TZNAME:CDT
DTSTART:20240310T080000
END:DAYLIGHT
BEGIN:STANDARD
TZOFFSETFROM:-0500
TZOFFSETTO:-0600
TZNAME:CST
DTSTART:20241103T070000
END:STANDARD
BEGIN:DAYLIGHT
TZOFFSETFROM:-0600
TZOFFSETTO:-0500
TZNAME:CDT
DTSTART:20250309T080000
END:DAYLIGHT
BEGIN:STANDARD
TZOFFSETFROM:-0500
TZOFFSETTO:-0600
TZNAME:CST
DTSTART:20251102T070000
END:STANDARD
END:VTIMEZONE
BEGIN:VEVENT
DTSTART;TZID=America/Chicago:20240521T140000
DTEND;TZID=America/Chicago:20240521T160000
DTSTAMP:20260420T191605
CREATED:20240422T133043Z
LAST-MODIFIED:20240425T144946Z
UID:10000939-1716300000-1716307200@www.regionalonehealth.org
SUMMARY:Tour of Maternity Center (IN-PERSON)
DESCRIPTION:Our Birth Facility tours are held at select times throughout the month. Special times are available by request. During the facility tour\, attendees learn about our labor and delivery services as well as our newborn center. \nClasses are free and open to the public. For more information\, contact Childbirth Services at 901-545-8449. For in-person events\, all CDC COVID-19 safety guidelines will be followed. For online events\, participants will receive a link\, meeting ID and password the night before each online session.
URL:https://www.regionalonehealth.org/event/tour-of-maternity-center-in-person-94/
LOCATION:Regional Medical Center\, 877 Jefferson Avenue\, Memphis\, TN\, 38103\, United States
CATEGORIES:Labor and Delivery Tours and Expectant Parent Classes
ORGANIZER;CN="Mahogany Freeman":MAILTO:mahogany.freeman@gmail.com, mfreeman@regionalonehealth.org
END:VEVENT
BEGIN:VEVENT
DTSTART;TZID=America/Chicago:20240513T110000
DTEND;TZID=America/Chicago:20240513T130000
DTSTAMP:20260420T191605
CREATED:20240422T132912Z
LAST-MODIFIED:20240425T145013Z
UID:10000938-1715598000-1715605200@www.regionalonehealth.org
SUMMARY:Tour of Maternity Center (IN-PERSON)
DESCRIPTION:Our Birth Facility tours are held at select times throughout the month. Special times are available by request. During the facility tour\, attendees learn about our labor and delivery services as well as our newborn center. \nClasses are free and open to the public. For more information\, contact Childbirth Services at 901-545-8449. For in-person events\, all CDC COVID-19 safety guidelines will be followed. For online events\, participants will receive a link\, meeting ID and password the night before each online session.
URL:https://www.regionalonehealth.org/event/tour-of-maternity-center-in-person-93/
LOCATION:Regional Medical Center\, 877 Jefferson Avenue\, Memphis\, TN\, 38103\, United States
CATEGORIES:Labor and Delivery Tours and Expectant Parent Classes
ORGANIZER;CN="Mahogany Freeman":MAILTO:mahogany.freeman@gmail.com, mfreeman@regionalonehealth.org
END:VEVENT
BEGIN:VEVENT
DTSTART;TZID=America/Chicago:20240509T130000
DTEND;TZID=America/Chicago:20240509T150000
DTSTAMP:20260420T191605
CREATED:20240422T133615Z
LAST-MODIFIED:20240425T145035Z
UID:10000942-1715259600-1715266800@www.regionalonehealth.org
SUMMARY:Breastfeeding Class (ONLINE)
DESCRIPTION:Our breastfeeding classes are a hands-on\, interactive exploration of successful breastfeeding. In this class\, we cover the benefits of breastfeeding\, skin-to-skin contact\, feeding cues and other helpful breastfeeding tips\, as well as community resources and support. \nClasses are free and open to the public. To register\, contact Childbirth Services at 901-545-8449. For in-person classes\, all CDC COVID-19 safety guidelines will be followed. For online classes\, the participants will receive the link\, meeting ID\, and password the night before each online session.  
URL:https://www.regionalonehealth.org/event/breastfeeding-class-online-5/
LOCATION:Regional Medical Center\, 877 Jefferson Avenue\, Memphis\, TN\, 38103\, United States
CATEGORIES:Labor and Delivery Tours and Expectant Parent Classes
ORGANIZER;CN="Mahogany Freeman":MAILTO:mahogany.freeman@gmail.com, mfreeman@regionalonehealth.org
END:VEVENT
BEGIN:VEVENT
DTSTART;TZID=America/Chicago:20240507T140000
DTEND;TZID=America/Chicago:20240507T160000
DTSTAMP:20260420T191605
CREATED:20240422T133425Z
LAST-MODIFIED:20240425T145101Z
UID:10000941-1715090400-1715097600@www.regionalonehealth.org
SUMMARY:Healthy Pregnancy & Signs Labor Is Approaching (ONLINE)
DESCRIPTION:This class focuses on how to have a healthy pregnancy and what signs to watch for in terms of going into labor. It is part of our Childbirth Series\, which covers the following topics: Healthy Pregnancy\, Nutrition\, Exercise\, Pregnancy Discomforts\, Warning Signs\, Signs of Labor Approaching\, 4 Stages of Labor\, Fetal Monitoring\, Types of Deliveries\, Obstetrical Problems\, Comfort & Coping Measures\, Postpartum Care\, Birth Control\, Infant Safety\, Newborn Care\, Pain Management\, Breastfeeding\, review CPR/Choking\, and much more. \nClasses are free and open to the public. For more information\, contact Childbirth Services at 901-545-8449. For in-person events\, all CDC COVID-19 safety guidelines will be followed. For online events\, participants will receive a link\, meeting ID and password the night before each online session.
URL:https://www.regionalonehealth.org/event/healthy-pregnancy-signs-labor-is-approaching-online/
LOCATION:Regional Medical Center\, 877 Jefferson Avenue\, Memphis\, TN\, 38103\, United States
CATEGORIES:Labor and Delivery Tours and Expectant Parent Classes
ORGANIZER;CN="Mahogany Freeman":MAILTO:mahogany.freeman@gmail.com, mfreeman@regionalonehealth.org
END:VEVENT
BEGIN:VEVENT
DTSTART;TZID=America/Chicago:20240502T110000
DTEND;TZID=America/Chicago:20240502T130000
DTSTAMP:20260420T191605
CREATED:20240422T132749Z
LAST-MODIFIED:20240425T145124Z
UID:10000937-1714647600-1714654800@www.regionalonehealth.org
SUMMARY:Tour of Maternity Center (IN-PERSON)
DESCRIPTION:Our Birth Facility tours are held at select times throughout the month. Special times are available by request. During the facility tour\, attendees learn about our labor and delivery services as well as our newborn center. \nClasses are free and open to the public. For more information\, contact Childbirth Services at 901-545-8449. For in-person events\, all CDC COVID-19 safety guidelines will be followed. For online events\, participants will receive a link\, meeting ID and password the night before each online session.
URL:https://www.regionalonehealth.org/event/tour-of-maternity-center-in-person-92/
LOCATION:Regional Medical Center\, 877 Jefferson Avenue\, Memphis\, TN\, 38103\, United States
CATEGORIES:Labor and Delivery Tours and Expectant Parent Classes
ORGANIZER;CN="Mahogany Freeman":MAILTO:mahogany.freeman@gmail.com, mfreeman@regionalonehealth.org
END:VEVENT
END:VCALENDAR